BEGIN:VCALENDAR
PRODID:-//eluceo/ical//2.0/EN
VERSION:2.0
CALSCALE:GREGORIAN
BEGIN:VEVENT
UID:b603bd040d3f960d08d12c7c46a9bcb1
DTSTAMP:20260421T081131Z
SUMMARY:Almennur fundur
DESCRIPTION:
URL:https://landvaettir.rotary1360.is/is/agenda/show/3433
DTSTART;TZID=Iceland:20211026T074500
DTEND;TZID=Iceland:20211026T084500
LOCATION:Canopy by Hilton Geiri Smart\nHverfisgata 30\n101 Reykjavík\n
CATEGORIES:Rotary
END:VEVENT
BEGIN:VTIMEZONE
TZID:Iceland
BEGIN:STANDARD
DTSTART:20211026T074500
TZNAME:GMT
TZOFFSETTO:+0000
TZOFFSETFROM:+0000
END:STANDARD
END:VTIMEZONE
END:VCALENDAR
