BEGIN:VCALENDAR
PRODID:-//eluceo/ical//2.0/EN
VERSION:2.0
CALSCALE:GREGORIAN
BEGIN:VEVENT
UID:3211dea246e5e0457b296d71cd05cb8a
DTSTAMP:20260422T215727Z
SUMMARY:Stefnumótunarfundur
DESCRIPTION:
URL:https://landvaettir.rotary1360.is/en/agenda/show/2788
DTSTART;TZID=Iceland:20210427T074500
DTEND;TZID=Iceland:20210427T084500
LOCATION:óvíst með raf- eða raunfund.
CATEGORIES:Rotary
END:VEVENT
BEGIN:VTIMEZONE
TZID:Iceland
BEGIN:STANDARD
DTSTART:20210427T074500
TZNAME:GMT
TZOFFSETTO:+0000
TZOFFSETFROM:+0000
END:STANDARD
END:VTIMEZONE
END:VCALENDAR
